Package: rifi
Version: 1.10.0
Command: /home/biocbuild/R/R/bin/R CMD INSTALL rifi
StartedAt: 2024-11-19 21:12:12 -0000 (Tue, 19 Nov 2024)
EndedAt: 2024-11-19 21:13:08 -0000 (Tue, 19 Nov 2024)
EllapsedTime: 55.7 seconds
RetCode: 0
Status: OK