Package: rifi Version: 1.10.0 Command: rm -rf rifi.buildbin-libdir && mkdir rifi.buildbin-libdir && /Users/biocbuild/BBS/utils/build-universal.sh rifi_1.10.0.tar.gz /Library/Frameworks/R.framework/Resources/bin/R rifi.buildbin-libdir StartedAt: 2025-02-04 14:00:27 -0500 (Tue, 04 Feb 2025) EndedAt: 2025-02-04 14:02:36 -0500 (Tue, 04 Feb 2025) EllapsedTime: 129.5 seconds RetCode: 0 Status: OK PackageFile: rifi_1.10.0.tgz PackageFileSize: 4.755 MiB