Package: rifi Version: 1.10.0 Command: /home/biocbuild/bbs-3.20-bioc/R/bin/R CMD check --install=check:rifi.install-out.txt --library=/home/biocbuild/bbs-3.20-bioc/R/site-library --timings rifi_1.10.0.tar.gz StartedAt: 2025-02-04 01:48:47 -0500 (Tue, 04 Feb 2025) EndedAt: 2025-02-04 01:58:39 -0500 (Tue, 04 Feb 2025) EllapsedTime: 591.6 seconds RetCode: 0 Status: WARNINGS CheckDir: rifi.Rcheck Warnings: 2