Package: rifiComparative Version: 1.6.0 Command: rm -rf rifiComparative.buildbin-libdir && mkdir rifiComparative.buildbin-libdir && /Users/biocbuild/BBS/utils/build-universal.sh rifiComparative_1.6.0.tar.gz /Library/Frameworks/R.framework/Resources/bin/R rifiComparative.buildbin-libdir StartedAt: 2025-02-01 16:32:28 -0500 (Sat, 01 Feb 2025) EndedAt: 2025-02-01 16:33:12 -0500 (Sat, 01 Feb 2025) EllapsedTime: 44.0 seconds RetCode: 0 Status: OK PackageFile: rifiComparative_1.6.0.tgz PackageFileSize: 2.433 MiB