Package: rifiComparative Version: 1.6.0 Command: /Library/Frameworks/R.framework/Resources/bin/R CMD check --install=check:rifiComparative.install-out.txt --library=/Library/Frameworks/R.framework/Resources/library --no-vignettes --timings rifiComparative_1.6.0.tar.gz StartedAt: 2025-02-01 06:49:06 -0500 (Sat, 01 Feb 2025) EndedAt: 2025-02-01 07:01:01 -0500 (Sat, 01 Feb 2025) EllapsedTime: 715.0 seconds RetCode: 0 Status: OK CheckDir: rifiComparative.Rcheck Warnings: 0