Package: rifiComparative Version: 1.6.0 Command: /Library/Frameworks/R.framework/Resources/bin/R CMD INSTALL rifiComparative StartedAt: 2025-01-30 17:06:55 -0500 (Thu, 30 Jan 2025) EndedAt: 2025-01-30 17:07:35 -0500 (Thu, 30 Jan 2025) EllapsedTime: 40.2 seconds RetCode: 0 Status: OK