Package: rifiComparative Version: 1.6.0 Command: /Library/Frameworks/R.framework/Resources/bin/R CMD check --install=check:rifiComparative.install-out.txt --library=/Library/Frameworks/R.framework/Resources/library --no-vignettes --timings rifiComparative_1.6.0.tar.gz StartedAt: 2025-02-04 09:00:26 -0500 (Tue, 04 Feb 2025) EndedAt: 2025-02-04 09:33:08 -0500 (Tue, 04 Feb 2025) EllapsedTime: 1961.3 seconds RetCode: 0 Status: OK CheckDir: rifiComparative.Rcheck Warnings: 0