Package: rifiComparative Version: 1.6.0 Command: /home/biocbuild/R/R/bin/R CMD build --keep-empty-dirs --no-resave-data rifiComparative StartedAt: 2025-02-04 02:17:32 -0000 (Tue, 04 Feb 2025) EndedAt: 2025-02-04 02:27:47 -0000 (Tue, 04 Feb 2025) EllapsedTime: 614.8 seconds RetCode: 0 Status: OK PackageFile: rifiComparative_1.6.0.tar.gz PackageFileSize: 3.212 MiB