Package: rmelting Version: 1.22.0 Command: /Library/Frameworks/R.framework/Resources/bin/R CMD build --keep-empty-dirs --no-resave-data rmelting StartedAt: 2025-01-31 06:36:37 -0500 (Fri, 31 Jan 2025) EndedAt: 2025-01-31 06:37:15 -0500 (Fri, 31 Jan 2025) EllapsedTime: 37.5 seconds RetCode: 0 Status: OK PackageFile: rmelting_1.22.0.tar.gz PackageFileSize: 2.489 MiB