Package: rmelting Version: 1.22.0 Command: /Library/Frameworks/R.framework/Resources/bin/R CMD check --install=check:rmelting.install-out.txt --library=/Library/Frameworks/R.framework/Resources/library --no-vignettes --timings rmelting_1.22.0.tar.gz StartedAt: 2025-02-01 06:58:17 -0500 (Sat, 01 Feb 2025) EndedAt: 2025-02-01 06:59:07 -0500 (Sat, 01 Feb 2025) EllapsedTime: 49.9 seconds RetCode: 0 Status: OK CheckDir: rmelting.Rcheck Warnings: 0