Package: rmelting Version: 1.22.0 Command: /Library/Frameworks/R.framework/Resources/bin/R CMD INSTALL rmelting StartedAt: 2025-01-30 15:15:22 -0500 (Thu, 30 Jan 2025) EndedAt: 2025-01-30 15:15:39 -0500 (Thu, 30 Jan 2025) EllapsedTime: 16.5 seconds RetCode: 0 Status: OK