Package: rmelting Version: 1.22.0 Command: /Library/Frameworks/R.framework/Resources/bin/R CMD check --install=check:rmelting.install-out.txt --library=/Library/Frameworks/R.framework/Resources/library --no-vignettes --timings rmelting_1.22.0.tar.gz StartedAt: 2025-01-31 09:02:31 -0500 (Fri, 31 Jan 2025) EndedAt: 2025-01-31 09:04:02 -0500 (Fri, 31 Jan 2025) EllapsedTime: 91.2 seconds RetCode: 0 Status: OK CheckDir: rmelting.Rcheck Warnings: 0