Package: rmelting Version: 1.22.0 Command: /home/biocbuild/bbs-3.20-bioc/R/bin/R CMD check --install=check:rmelting.install-out.txt --library=/home/biocbuild/bbs-3.20-bioc/R/site-library --timings rmelting_1.22.0.tar.gz StartedAt: 2025-01-31 01:39:49 -0500 (Fri, 31 Jan 2025) EndedAt: 2025-01-31 01:40:42 -0500 (Fri, 31 Jan 2025) EllapsedTime: 53.0 seconds RetCode: 0 Status: OK CheckDir: rmelting.Rcheck Warnings: 0