Package: rmelting Version: 1.22.0 Command: rm -rf rmelting.buildbin-libdir && mkdir rmelting.buildbin-libdir && F:\biocbuild\bbs-3.20-bioc\R\bin\R.exe CMD INSTALL --build --library=rmelting.buildbin-libdir rmelting_1.22.0.tar.gz StartedAt: 2025-01-31 09:27:44 -0500 (Fri, 31 Jan 2025) EndedAt: 2025-01-31 09:27:57 -0500 (Fri, 31 Jan 2025) EllapsedTime: 12.7 seconds RetCode: 0 Status: OK PackageFile: rmelting_1.22.0.zip PackageFileSize: 2.471 MiB