Package: rmelting Version: 1.22.0 Command: chmod a+r rmelting -R && F:\biocbuild\bbs-3.20-bioc\R\bin\R.exe CMD build --keep-empty-dirs --no-resave-data rmelting StartedAt: 2025-01-30 21:26:41 -0500 (Thu, 30 Jan 2025) EndedAt: 2025-01-30 21:27:35 -0500 (Thu, 30 Jan 2025) EllapsedTime: 53.8 seconds RetCode: 0 Status: OK PackageFile: rmelting_1.22.0.tar.gz PackageFileSize: 2.492 MiB