Package: rmelting Version: 1.22.0 Command: F:\biocbuild\bbs-3.20-bioc\R\bin\R.exe CMD INSTALL rmelting StartedAt: 2025-01-30 15:27:01 -0500 (Thu, 30 Jan 2025) EndedAt: 2025-01-30 15:27:28 -0500 (Thu, 30 Jan 2025) EllapsedTime: 27.3 seconds RetCode: 0 Status: OK