Package: rmelting Version: 1.22.0 Command: /home/biocbuild/R/R/bin/R CMD build --keep-empty-dirs --no-resave-data rmelting StartedAt: 2025-01-31 02:13:17 -0000 (Fri, 31 Jan 2025) EndedAt: 2025-01-31 02:13:48 -0000 (Fri, 31 Jan 2025) EllapsedTime: 31.0 seconds RetCode: 0 Status: OK PackageFile: rmelting_1.22.0.tar.gz PackageFileSize: 2.474 MiB