Package: rmelting Version: 1.22.0 Command: /home/biocbuild/R/R/bin/R CMD check --install=check:rmelting.install-out.txt --library=/home/biocbuild/R/R/site-library --no-vignettes --timings rmelting_1.22.0.tar.gz StartedAt: 2025-01-31 09:46:56 -0000 (Fri, 31 Jan 2025) EndedAt: 2025-01-31 09:47:40 -0000 (Fri, 31 Jan 2025) EllapsedTime: 44.0 seconds RetCode: 0 Status: OK CheckDir: rmelting.Rcheck Warnings: 0