Package: rmelting Version: 1.22.0 Command: /home/biocbuild/R/R/bin/R CMD INSTALL rmelting StartedAt: 2025-01-30 20:11:04 -0000 (Thu, 30 Jan 2025) EndedAt: 2025-01-30 20:11:33 -0000 (Thu, 30 Jan 2025) EllapsedTime: 28.4 seconds RetCode: 0 Status: OK