Package: rmspc Version: 1.12.0 Command: /Library/Frameworks/R.framework/Resources/bin/R CMD INSTALL rmspc StartedAt: 2025-02-03 16:10:21 -0500 (Mon, 03 Feb 2025) EndedAt: 2025-02-03 16:10:56 -0500 (Mon, 03 Feb 2025) EllapsedTime: 35.2 seconds RetCode: 0 Status: OK