Package: rmspc
Version: 1.12.0
Command: /Library/Frameworks/R.framework/Resources/bin/R CMD INSTALL rmspc
StartedAt: 2024-11-08 15:30:03 -0500 (Fri, 08 Nov 2024)
EndedAt: 2024-11-08 15:30:14 -0500 (Fri, 08 Nov 2024)
EllapsedTime: 10.9 seconds
RetCode: 0
Status: OK