Package: rmspc Version: 1.12.0 Command: /Library/Frameworks/R.framework/Resources/bin/R CMD check --install=check:rmspc.install-out.txt --library=/Library/Frameworks/R.framework/Resources/library --no-vignettes --timings rmspc_1.12.0.tar.gz StartedAt: 2025-02-04 09:02:52 -0500 (Tue, 04 Feb 2025) EndedAt: 2025-02-04 09:12:37 -0500 (Tue, 04 Feb 2025) EllapsedTime: 585.2 seconds RetCode: 0 Status: OK CheckDir: rmspc.Rcheck Warnings: 0