Package: rnaEditr
Version: 1.16.0
Command: /Library/Frameworks/R.framework/Resources/bin/R CMD INSTALL rnaEditr
StartedAt: 2024-11-19 15:35:57 -0500 (Tue, 19 Nov 2024)
EndedAt: 2024-11-19 15:36:49 -0500 (Tue, 19 Nov 2024)
EllapsedTime: 52.1 seconds
RetCode: 0
Status: OK