Package: rnaEditr Version: 1.16.0 Command: /Library/Frameworks/R.framework/Resources/bin/R CMD INSTALL rnaEditr StartedAt: 2025-02-03 16:24:44 -0500 (Mon, 03 Feb 2025) EndedAt: 2025-02-03 16:26:00 -0500 (Mon, 03 Feb 2025) EllapsedTime: 76.4 seconds RetCode: 0 Status: OK