Package: rnaEditr
Version: 1.15.0
Command: C:\Users\biocbuild\bbs-3.20-bioc\R\bin\R.exe CMD check --no-multiarch --install=check:rnaEditr.install-out.txt --library=C:\Users\biocbuild\bbs-3.20-bioc\R\library --no-vignettes --timings rnaEditr_1.15.0.tar.gz
StartedAt: 2024-07-16 03:23:45 -0400 (Tue, 16 Jul 2024)
EndedAt: 2024-07-16 03:28:52 -0400 (Tue, 16 Jul 2024)
EllapsedTime: 306.3 seconds
RetCode: 0
Status: WARNINGS
CheckDir: rnaEditr.Rcheck
Warnings: 1