Package: rnaEditr Version: 1.16.0 Command: chmod a+r rnaEditr -R && F:\biocbuild\bbs-3.20-bioc\R\bin\R.exe CMD build --keep-empty-dirs --no-resave-data rnaEditr StartedAt: 2025-02-03 21:43:27 -0500 (Mon, 03 Feb 2025) EndedAt: 2025-02-03 21:44:51 -0500 (Mon, 03 Feb 2025) EllapsedTime: 83.7 seconds RetCode: 0 Status: OK PackageFile: rnaEditr_1.16.0.tar.gz PackageFileSize: 1.052 MiB