Package: rnaEditr Version: 1.16.0 Command: F:\biocbuild\bbs-3.20-bioc\R\bin\R.exe CMD check --no-multiarch --install=check:rnaEditr.install-out.txt --library=F:\biocbuild\bbs-3.20-bioc\R\library --no-vignettes --timings rnaEditr_1.16.0.tar.gz StartedAt: 2025-02-04 05:36:49 -0500 (Tue, 04 Feb 2025) EndedAt: 2025-02-04 05:42:24 -0500 (Tue, 04 Feb 2025) EllapsedTime: 335.1 seconds RetCode: 0 Status: WARNINGS CheckDir: rnaEditr.Rcheck Warnings: 1