Package: rnaEditr Version: 1.16.0 Command: /home/biocbuild/R/R/bin/R CMD INSTALL rnaEditr StartedAt: 2025-02-03 21:08:53 -0000 (Mon, 03 Feb 2025) EndedAt: 2025-02-03 21:09:39 -0000 (Mon, 03 Feb 2025) EllapsedTime: 46.5 seconds RetCode: 0 Status: OK