Package: rnaseqcomp Version: 1.36.0 Command: /Library/Frameworks/R.framework/Resources/bin/R CMD INSTALL rnaseqcomp StartedAt: 2025-02-03 16:49:59 -0500 (Mon, 03 Feb 2025) EndedAt: 2025-02-03 16:50:05 -0500 (Mon, 03 Feb 2025) EllapsedTime: 6.9 seconds RetCode: 0 Status: OK