Package: rnaseqcomp Version: 1.36.0 Command: /home/biocbuild/bbs-3.20-bioc/R/bin/R CMD build --keep-empty-dirs --no-resave-data --md5 rnaseqcomp StartedAt: 2025-02-03 19:02:48 -0500 (Mon, 03 Feb 2025) EndedAt: 2025-02-03 19:03:05 -0500 (Mon, 03 Feb 2025) EllapsedTime: 17.0 seconds RetCode: 0 Status: OK PackageFile: rnaseqcomp_1.36.0.tar.gz PackageFileSize: 1.524 MiB