Package: rnaseqcomp Version: 1.36.0 Command: rm -rf rnaseqcomp.buildbin-libdir && mkdir rnaseqcomp.buildbin-libdir && F:\biocbuild\bbs-3.20-bioc\R\bin\R.exe CMD INSTALL --build --library=rnaseqcomp.buildbin-libdir rnaseqcomp_1.36.0.tar.gz StartedAt: 2025-01-31 09:28:21 -0500 (Fri, 31 Jan 2025) EndedAt: 2025-01-31 09:28:35 -0500 (Fri, 31 Jan 2025) EllapsedTime: 13.4 seconds RetCode: 0 Status: OK PackageFile: rnaseqcomp_1.36.0.zip PackageFileSize: 1.457 MiB