Package: rnaseqcomp Version: 1.36.0 Command: F:\biocbuild\bbs-3.20-bioc\R\bin\R.exe CMD check --no-multiarch --install=check:rnaseqcomp.install-out.txt --library=F:\biocbuild\bbs-3.20-bioc\R\library --no-vignettes --timings rnaseqcomp_1.36.0.tar.gz StartedAt: 2025-01-31 05:51:20 -0500 (Fri, 31 Jan 2025) EndedAt: 2025-01-31 05:52:15 -0500 (Fri, 31 Jan 2025) EllapsedTime: 54.9 seconds RetCode: 0 Status: OK CheckDir: rnaseqcomp.Rcheck Warnings: 0