Package: rnaseqcomp
Version: 1.36.0
Command: /home/biocbuild/R/R/bin/R CMD INSTALL rnaseqcomp
StartedAt: 2025-02-17 21:18:35 -0000 (Mon, 17 Feb 2025)
EndedAt: 2025-02-17 21:18:39 -0000 (Mon, 17 Feb 2025)
EllapsedTime: 4.3 seconds
RetCode: 0
Status: OK