Package: roastgsa Version: 1.4.0 Command: /Library/Frameworks/R.framework/Resources/bin/R CMD build --keep-empty-dirs --no-resave-data roastgsa StartedAt: 2025-02-03 21:48:24 -0500 (Mon, 03 Feb 2025) EndedAt: 2025-02-03 21:51:12 -0500 (Mon, 03 Feb 2025) EllapsedTime: 167.3 seconds RetCode: 0 Status: OK PackageFile: roastgsa_1.4.0.tar.gz PackageFileSize: 2.118 MiB