Package: roastgsa Version: 1.4.0 Command: rm -rf roastgsa.buildbin-libdir && mkdir roastgsa.buildbin-libdir && F:\biocbuild\bbs-3.20-bioc\R\bin\R.exe CMD INSTALL --build --library=roastgsa.buildbin-libdir roastgsa_1.4.0.tar.gz StartedAt: 2025-02-04 09:22:48 -0500 (Tue, 04 Feb 2025) EndedAt: 2025-02-04 09:23:06 -0500 (Tue, 04 Feb 2025) EllapsedTime: 17.5 seconds RetCode: 0 Status: OK PackageFile: roastgsa_1.4.0.zip PackageFileSize: 1.573 MiB