Package: roastgsa Version: 1.4.0 Command: chmod a+r roastgsa -R && F:\biocbuild\bbs-3.20-bioc\R\bin\R.exe CMD build --keep-empty-dirs --no-resave-data roastgsa StartedAt: 2025-02-03 21:44:45 -0500 (Mon, 03 Feb 2025) EndedAt: 2025-02-03 21:46:41 -0500 (Mon, 03 Feb 2025) EllapsedTime: 115.6 seconds RetCode: 0 Status: OK PackageFile: roastgsa_1.4.0.tar.gz PackageFileSize: 1.441 MiB