Package: roastgsa Version: 1.4.0 Command: F:\biocbuild\bbs-3.20-bioc\R\bin\R.exe CMD INSTALL roastgsa StartedAt: 2025-02-03 15:43:06 -0500 (Mon, 03 Feb 2025) EndedAt: 2025-02-03 15:43:34 -0500 (Mon, 03 Feb 2025) EllapsedTime: 28.0 seconds RetCode: 0 Status: OK