Package: rols
Version: 3.1.0
Command: chmod a+r rols -R && C:\Users\biocbuild\bbs-3.20-bioc\R\bin\R.exe CMD build --keep-empty-dirs --no-resave-data rols
StartedAt: 2024-07-15 20:30:37 -0400 (Mon, 15 Jul 2024)
EndedAt: 2024-07-15 20:31:21 -0400 (Mon, 15 Jul 2024)
EllapsedTime: 44.0 seconds
RetCode: 0
Status: OK
PackageFile: rols_3.1.0.tar.gz
PackageFileSize: 390.4 <A href="http://en.wikipedia.org/wiki/KiB" target="_blank">KiB</A>