Package: rols Version: 3.2.0 Command: F:\biocbuild\bbs-3.20-bioc\R\bin\R.exe CMD INSTALL rols StartedAt: 2025-02-03 15:42:00 -0500 (Mon, 03 Feb 2025) EndedAt: 2025-02-03 15:42:31 -0500 (Mon, 03 Feb 2025) EllapsedTime: 31.6 seconds RetCode: 0 Status: OK