Package: ropls Version: 1.38.0 Command: rm -rf ropls.buildbin-libdir && mkdir ropls.buildbin-libdir && /Users/biocbuild/BBS/utils/build-universal.sh ropls_1.38.0.tar.gz /Library/Frameworks/R.framework/Resources/bin/R ropls.buildbin-libdir StartedAt: 2025-02-05 17:32:30 -0500 (Wed, 05 Feb 2025) EndedAt: 2025-02-05 17:33:06 -0500 (Wed, 05 Feb 2025) EllapsedTime: 36.6 seconds RetCode: 0 Status: OK PackageFile: ropls_1.38.0.tgz PackageFileSize: 6.069 MiB