Package: ropls Version: 1.38.0 Command: /Library/Frameworks/R.framework/Resources/bin/R CMD build --keep-empty-dirs --no-resave-data ropls StartedAt: 2025-02-03 21:49:35 -0500 (Mon, 03 Feb 2025) EndedAt: 2025-02-03 21:52:12 -0500 (Mon, 03 Feb 2025) EllapsedTime: 156.7 seconds RetCode: 0 Status: OK PackageFile: ropls_1.38.0.tar.gz PackageFileSize: 5.543 MiB