Package: ropls Version: 1.38.0 Command: /Library/Frameworks/R.framework/Resources/bin/R CMD INSTALL ropls StartedAt: 2025-02-03 16:39:02 -0500 (Mon, 03 Feb 2025) EndedAt: 2025-02-03 16:40:07 -0500 (Mon, 03 Feb 2025) EllapsedTime: 65.4 seconds RetCode: 0 Status: OK