Package: ropls
Version: 1.37.0
Command: chmod a+r ropls -R && C:\Users\biocbuild\bbs-3.20-bioc\R\bin\R.exe CMD build --keep-empty-dirs --no-resave-data ropls
StartedAt: 2024-07-15 20:30:48 -0400 (Mon, 15 Jul 2024)
EndedAt: 2024-07-15 20:32:07 -0400 (Mon, 15 Jul 2024)
EllapsedTime: 78.4 seconds
RetCode: 0
Status: OK
PackageFile: ropls_1.37.0.tar.gz
PackageFileSize: 2.974 <A href="http://en.wikipedia.org/wiki/MiB" target="_blank">MiB</A>