Package: ropls Version: 1.38.0 Command: /home/biocbuild/R/R/bin/R CMD build --keep-empty-dirs --no-resave-data ropls StartedAt: 2025-02-04 02:25:45 -0000 (Tue, 04 Feb 2025) EndedAt: 2025-02-04 02:27:32 -0000 (Tue, 04 Feb 2025) EllapsedTime: 107.2 seconds RetCode: 0 Status: OK PackageFile: ropls_1.38.0.tar.gz PackageFileSize: 4.517 MiB