Package: ropls Version: 1.38.0 Command: /home/biocbuild/R/R/bin/R CMD check --install=check:ropls.install-out.txt --library=/home/biocbuild/R/R/site-library --no-vignettes --timings ropls_1.38.0.tar.gz StartedAt: 2025-02-04 10:34:13 -0000 (Tue, 04 Feb 2025) EndedAt: 2025-02-04 10:38:55 -0000 (Tue, 04 Feb 2025) EllapsedTime: 281.4 seconds RetCode: 0 Status: OK CheckDir: ropls.Rcheck Warnings: 0