Package: ropls Version: 1.38.0 Command: /home/biocbuild/R/R/bin/R CMD INSTALL ropls StartedAt: 2025-02-03 21:14:59 -0000 (Mon, 03 Feb 2025) EndedAt: 2025-02-03 21:15:36 -0000 (Mon, 03 Feb 2025) EllapsedTime: 37.1 seconds RetCode: 0 Status: OK