Package: rprimer Version: 1.10.0 Command: rm -rf rprimer.buildbin-libdir && mkdir rprimer.buildbin-libdir && /Users/biocbuild/BBS/utils/build-universal.sh rprimer_1.10.0.tar.gz /Library/Frameworks/R.framework/Resources/bin/R rprimer.buildbin-libdir StartedAt: 2025-02-05 17:32:52 -0500 (Wed, 05 Feb 2025) EndedAt: 2025-02-05 17:33:15 -0500 (Wed, 05 Feb 2025) EllapsedTime: 23.0 seconds RetCode: 0 Status: OK PackageFile: rprimer_1.10.0.tgz PackageFileSize: 3.655 MiB