Package: rprimer Version: 1.10.0 Command: /Library/Frameworks/R.framework/Resources/bin/R CMD build --keep-empty-dirs --no-resave-data rprimer StartedAt: 2025-02-04 06:59:04 -0500 (Tue, 04 Feb 2025) EndedAt: 2025-02-04 07:00:13 -0500 (Tue, 04 Feb 2025) EllapsedTime: 69.6 seconds RetCode: 0 Status: OK PackageFile: rprimer_1.10.0.tar.gz PackageFileSize: 3.273 MiB