Package: rprimer Version: 1.10.0 Command: /Library/Frameworks/R.framework/Resources/bin/R CMD check --install=check:rprimer.install-out.txt --library=/Library/Frameworks/R.framework/Resources/library --no-vignettes --timings rprimer_1.10.0.tar.gz StartedAt: 2025-02-05 08:09:33 -0500 (Wed, 05 Feb 2025) EndedAt: 2025-02-05 08:12:40 -0500 (Wed, 05 Feb 2025) EllapsedTime: 187.2 seconds RetCode: 0 Status: OK CheckDir: rprimer.Rcheck Warnings: 0