Package: rprimer Version: 1.10.0 Command: /Library/Frameworks/R.framework/Resources/bin/R CMD INSTALL rprimer StartedAt: 2025-02-03 16:52:42 -0500 (Mon, 03 Feb 2025) EndedAt: 2025-02-03 16:53:03 -0500 (Mon, 03 Feb 2025) EllapsedTime: 20.6 seconds RetCode: 0 Status: OK